BEGIN:VCALENDAR
VERSION:2.0
PRODID:-//SwissLens - ECPv6.15.11//NONSGML v1.0//EN
CALSCALE:GREGORIAN
METHOD:PUBLISH
X-WR-CALNAME:SwissLens
X-ORIGINAL-URL:https://www.swisslens.ch/de/
X-WR-CALDESC:Veranstaltungen für SwissLens
REFRESH-INTERVAL;VALUE=DURATION:PT1H
X-Robots-Tag:noindex
X-PUBLISHED-TTL:PT1H
BEGIN:VTIMEZONE
TZID:Europe/Zurich
BEGIN:DAYLIGHT
TZOFFSETFROM:+0100
TZOFFSETTO:+0200
TZNAME:CEST
DTSTART:20250330T010000
END:DAYLIGHT
BEGIN:STANDARD
TZOFFSETFROM:+0200
TZOFFSETTO:+0100
TZNAME:CET
DTSTART:20251026T010000
END:STANDARD
BEGIN:DAYLIGHT
TZOFFSETFROM:+0100
TZOFFSETTO:+0200
TZNAME:CEST
DTSTART:20260329T010000
END:DAYLIGHT
BEGIN:STANDARD
TZOFFSETFROM:+0200
TZOFFSETTO:+0100
TZNAME:CET
DTSTART:20261025T010000
END:STANDARD
BEGIN:DAYLIGHT
TZOFFSETFROM:+0100
TZOFFSETTO:+0200
TZNAME:CEST
DTSTART:20270328T010000
END:DAYLIGHT
BEGIN:STANDARD
TZOFFSETFROM:+0200
TZOFFSETTO:+0100
TZNAME:CET
DTSTART:20271031T010000
END:STANDARD
END:VTIMEZONE
BEGIN:VEVENT
DTSTART;VALUE=DATE:20260422
DTEND;VALUE=DATE:20260423
DTSTAMP:20260422T102926
CREATED:20260203T154159Z
LAST-MODIFIED:20260204T130952Z
UID:10000048-1776816000-1776902399@www.swisslens.ch
SUMMARY:OrthoK - Troubleshooting und Anpassfälle aus dem Alltag
DESCRIPTION:Stoßen Sie manchmal an die Grenzen von Orthokeratologie Systemen? Ist es für Sie wichtig auch Kinder optimal  und im Rahmen eines Myopiemanagements zu versorgen? Dann sind Sie hier genau richtig! Wir verschieben Ihre Grenzen und üben gemeinsam auch die Kleinsten sicher und zum Vorteil der Augengesundheit zu versorgen. \nVoraussetzungen:\n– Umgang mit der Spaltlampe\n– Versorgungskenntnisse mit OrthoK\n– Topographie \nVeranstaltungsort\nGero Mayer | 360° Augenanalyse\nFrankfurter Straße 7\n65239 Hochheim am Main \nZeitrahmen\n10:00–17:00 Uhr \nPreis: 199 EUR zzgl. MwSt.\nInklusive Seminarteilnahme\, Zertifikat\, Mittagessen sowie Snacks und Getränke während des Seminars. \nRegistrierung: lens.info@swisslens.ch
URL:https://www.swisslens.ch/de/event/orthok-troubleshooting-und-anpassfalle-aus-dem-alltag/
END:VEVENT
BEGIN:VEVENT
DTSTART;VALUE=DATE:20260424
DTEND;VALUE=DATE:20260426
DTSTAMP:20260422T102926
CREATED:20260318T130948Z
LAST-MODIFIED:20260408T142554Z
UID:10000088-1776988800-1777161599@www.swisslens.ch
SUMMARY:EFCLIN 2026
DESCRIPTION:
URL:https://www.swisslens.ch/de/event/efclin-2026/
END:VEVENT
BEGIN:VEVENT
DTSTART;TZID=Europe/Zurich:20260429T180000
DTEND;TZID=Europe/Zurich:20260429T220000
DTSTAMP:20260422T102926
CREATED:20260323T131319Z
LAST-MODIFIED:20260323T131915Z
UID:10000093-1777485600-1777500000@www.swisslens.ch
SUMMARY:ISEC - Jornadas da Miopia - Sessão Jovem
DESCRIPTION:No dia 29 de abril\, a SwissLens apresentará\, no âmbito das Jornadas da Miopia no ISEC Lisboa\, a gama Relax – uma linha de lentes de contacto personalizadas desenvolvidas para o controlo da progressão da miopia em crianças e jovens. \nA apresentação terá lugar durante a Sessão Jovem\, das 18h00 às 22h00\, e é dirigida a jovens profissionais e estudantes de optometria e ótica. \nVenha conhecer soluções inovadoras e individualizadas para abrandar a progressão da miopia e descobrir as possibilidades da tecnologia Relax da SwissLens.
URL:https://www.swisslens.ch/de/event/isec-jornadas-da-miopia-sessao-jovem/
END:VEVENT
END:VCALENDAR